BEGIN:VCALENDAR
PRODID:-//AT Content Types//AT Event//EN
VERSION:1.0
BEGIN:VEVENT
DTSTART:20110605T110000Z
DTEND:20110605T200000Z
DCREATED:20110531T112227Z
UID:ATEvent-ca3722ded0334d247a9a273572eb226a
SEQUENCE:0
LAST-MODIFIED:20110531T112246Z
SUMMARY:Convivencia en el Parque Moret
DESCRIPTION:Domingo 5 de junio de 2011
LOCATION:Casa la Morera
PRIORITY:3
TRANSP:0
END:VEVENT
END:VCALENDAR
